BEGIN:VCALENDAR
VERSION:2.0
PRODID:-//103.55.179.21//NONSGML kigkonsult.se iCalcreator 2.20//
CALSCALE:GREGORIAN
METHOD:PUBLISH
X-FROM-URL:http://www.reubensimpson.co.nz
X-WR-TIMEZONE:Pacific/Auckland
BEGIN:VTIMEZONE
TZID:Pacific/Auckland
X-LIC-LOCATION:Pacific/Auckland
BEGIN:STANDARD
DTSTART:20180401T030000
TZOFFSETFROM:+1300
TZOFFSETTO:+1200
TZNAME:NZST
END:STANDARD
BEGIN:DAYLIGHT
DTSTART:20170924T020000
TZOFFSETFROM:+1200
TZOFFSETTO:+1300
TZNAME:NZDT
END:DAYLIGHT
END:VTIMEZONE
BEGIN:VEVENT
UID:crpntcgob0e8l9alah2nihbm40@google.com
DTSTAMP:20180123T100156Z
CATEGORIES:
CONTACT:
DESCRIPTION:<p>Singing in the lounge with Leith Milson\, piano maestro.</p>
 \n<p>LOCATION: Hit the “Read More” button to the right of this sentence.</
 p>
DTSTART;TZID=Pacific/Auckland:20150130T183000
DTEND;TZID=Pacific/Auckland:20150130T193000
LOCATION:Trinity Wharf Tauranga\, 51 Dive Crescent\, Tauranga Bay Of Plenty
  3110\, New Zealand
SEQUENCE:0
SUMMARY:Trinity Wharf Hotel accompanied by pianist Leith Milson – Tauranga
URL:http://www.reubensimpson.co.nz/event/trinity-wharf-hotel-accompanied-by
 -pianist-leith-milson-tauranga/
END:VEVENT
BEGIN:VEVENT
UID:3v4jqg6t9go30ilvpunbtm20f4@google.com
DTSTAMP:20180123T100156Z
CATEGORIES:
CONTACT:
DESCRIPTION:<p>LOCATION: Hit the “Read More” button to the right of this se
 ntence.</p>
DTSTART;TZID=Pacific/Auckland:20150208T170000
DTEND;TZID=Pacific/Auckland:20150208T200000
LOCATION:65 Chapel St\, Tauranga\, Tauranga 3110\, New Zealand
SEQUENCE:0
SUMMARY:The Raft Restaurant – Tauranga
URL:http://www.reubensimpson.co.nz/event/the-raft-restaurant-tauranga/
END:VEVENT
BEGIN:VEVENT
UID:i3gk19jcpmc5velvvuqdvqta5s@google.com
DTSTAMP:20180123T100156Z
CATEGORIES:
CONTACT:
DESCRIPTION:<p>Bookings Essential*: Phone the restaurant on 07 574 4582<br 
 />\n*Note\; you must be a member of Club Mt Maunganui.</p>\n<p>LOCATION: H
 it the “Read More” button to the right of this sentence.</p>
DTSTART;TZID=Pacific/Auckland:20150214T180000
DTEND;TZID=Pacific/Auckland:20150214T210000
LOCATION:Club Mount Maunganui\, 54 Miro Street\, Tauranga 3116\, New Zealan
 d
SEQUENCE:0
SUMMARY:Club Mount Maunganui (Valentines Day) – Tauranga
URL:http://www.reubensimpson.co.nz/event/club-mount-maunganui-valentines-da
 y-tauranga/
END:VEVENT
BEGIN:VEVENT
UID:9230i0cmes2j6iukpa6lj1opk8@google.com
DTSTAMP:20180123T100156Z
CATEGORIES:
CONTACT:
DESCRIPTION:<p>Event doors open at 10am.</p>\n<p>LOCATION: Hit the “Read Mo
 re” button to the right of this sentence.</p>
DTSTART;TZID=Pacific/Auckland:20150321T140000
DTEND;TZID=Pacific/Auckland:20150321T143000
LOCATION:The Historic Village\, 17th Avenue\, Tauranga South 3112\, New Zea
 land
SEQUENCE:0
SUMMARY:Multicultural Festival – Tauranga
URL:http://www.reubensimpson.co.nz/event/multicultural-festival-tauranga/
END:VEVENT
BEGIN:VEVENT
UID:bqh7nmbr1md5ls468q3i58a3oo@google.com
DTSTAMP:20180123T100156Z
CATEGORIES:
CONTACT:
DESCRIPTION:<p>12pm-12:45pm accompanied by local guitarist Hedley Timbs<br 
 />\n2pm-2:30pm accompanied by local guitarist Mitchell Nemeth.<br />\n3pm 
 finish.</p>\n<p>LOCATION: Hit the “Read More” button to the right of this 
 sentence.</p>
DTSTART;TZID=Pacific/Auckland:20150404T120000
DTEND;TZID=Pacific/Auckland:20150404T150000
LOCATION:16 Grey St\, Tauranga\, Tauranga 3110\, New Zealand
SEQUENCE:0
SUMMARY:Tauranga Jazz Festival – City (Downtown Tauranga Carnival)
URL:http://www.reubensimpson.co.nz/event/tauranga-jazz-festival-city-downto
 wn-tauranga-carnival/
END:VEVENT
BEGIN:VEVENT
UID:q5gc15tqfbgsatturvtkaalgpg@google.com
DTSTAMP:20180123T100156Z
CATEGORIES:
CONTACT:
DESCRIPTION:<p>The Very Vintage Day Out is an event where lovers of all thi
 ngs vintage come together for shopping\, workshops\, high tea\, networking
  and entertainment.<br />\nhttp://www.veryvintage.co.nz/</p>\n<p>Ron and I
  are on at 11:50am – 12:30pm.</p>\n<p>LOCATION: Hit the “Read More” button
  to the right of this sentence.</p>
DTSTART;TZID=Pacific/Auckland:20150411T100000
DTEND;TZID=Pacific/Auckland:20150411T180000
LOCATION:Alexandra Park\, Cnr Greenlane West and Manukau Rd\, Greenlane 105
 1\, New Zealand
SEQUENCE:0
SUMMARY:Very Vintage Day Out accompanied by pianist Ron Coleman – Auckland
URL:http://www.reubensimpson.co.nz/event/very-vintage-day-out-accompanied-b
 y-pianist-ron-coleman-auckland/
END:VEVENT
BEGIN:VEVENT
UID:tqmv8ijkgrsuflps49bbskgbo0@google.com
DTSTAMP:20180123T100156Z
CATEGORIES:
CONTACT:
DESCRIPTION:<p>Singing in the lounge with Leith Milson\, piano maestro.</p>
 \n<p>LOCATION: Hit the “Read More” button to the right of this sentence.</
 p>
DTSTART;TZID=Pacific/Auckland:20150417T183000
DTEND;TZID=Pacific/Auckland:20150417T193000
LOCATION:Trinity Wharf Tauranga\, 51 Dive Crescent\, Tauranga Bay Of Plenty
  3110\, New Zealand
SEQUENCE:0
SUMMARY:Trinity Wharf Hotel accompanied by pianist Leith Milson – Tauranga
URL:http://www.reubensimpson.co.nz/event/trinity-wharf-hotel-accompanied-by
 -pianist-leith-milson-tauranga-2/
END:VEVENT
BEGIN:VEVENT
UID:k31qf78h7qdskji1qf4b2kr1ec@google.com
DTSTAMP:20180123T100156Z
CATEGORIES:
CONTACT:
DESCRIPTION:<p>Cancelled due to the rain!</p>\n<p>LOCATION: Hit the “Read M
 ore” button to the right of this sentence.</p>
DTSTART;TZID=Pacific/Auckland:20150418T160000
DTEND;TZID=Pacific/Auckland:20150418T180000
LOCATION:82 Maunganui Rd\, Mt Maunganui\, Tauranga 3116\, New Zealand
SEQUENCE:0
SUMMARY:CANCELLED: Post Bank Restaurant – Tauranga
URL:http://www.reubensimpson.co.nz/event/post-bank-restaurant-tauranga/
END:VEVENT
BEGIN:VEVENT
UID:ru3at967ojoaljo338iencl5a4@google.com
DTSTAMP:20180123T100156Z
CATEGORIES:
CONTACT:
DESCRIPTION:<p>Bookings Essential: Phone the restaurant on 07 574 4582 </p>
 \n<p>LOCATION: Hit the “Read More” button to the right of this sentence.</
 p>
DTSTART;TZID=Pacific/Auckland:20150510T133000
DTEND;TZID=Pacific/Auckland:20150510T153000
LOCATION:Club Mount Maunganui\, 45 Kawaka Street\, Tauranga 3116\, New Zeal
 and
SEQUENCE:0
SUMMARY:Club Mount Maunganui (Mothers Day) – Tauranga
URL:http://www.reubensimpson.co.nz/event/singing-at-club-mount-maunganui-ti
 me-tbc/
END:VEVENT
BEGIN:VEVENT
UID:2vjo2ns4b25h2or685mus04rgc@google.com
DTSTAMP:20180123T100156Z
CATEGORIES:
CONTACT:
DESCRIPTION:<p>Bookings Essential: Phone the restaurant on 07 574 4582 </p>
 \n<p>LOCATION: Hit the “Read More” button to the right of this sentence.</
 p>
DTSTART;TZID=Pacific/Auckland:20150510T180000
DTEND;TZID=Pacific/Auckland:20150510T200000
LOCATION:Club Mount Maunganui\, 45 Kawaka Street\, Tauranga 3116\, New Zeal
 and
SEQUENCE:0
SUMMARY:Club Mount Maunganui (Mothers Day) – Tauranga
URL:http://www.reubensimpson.co.nz/event/club-mount-maunganui-mothers-day-t
 auranga/
END:VEVENT
BEGIN:VEVENT
UID:b8rs0efephm9782fde2ehreoi0@google.com
DTSTAMP:20180123T100156Z
CATEGORIES:
CONTACT:
DESCRIPTION:<p>Cellist Dominic Lee\, and Guest artists present\, “Grazia.”<
 br />\nIt will be an afternoon full of passionate\, and exciting music per
 formed by highly regarded young musicians at one of Tauranga’s most charmi
 ng venues.<br />\nThe guest artists will be Violinist Anna Lee\, Jazz sing
 er Reuben Simpson\, and Pianist Choong Park.<br />\nThe programme will inc
 lude<br />\nworks by Beethoven\, Brahms\, Shostakovich\, Sarasate\, and mu
 ch more….<br />\nDominic will be studying at the Eastman School of Music\,
  in New York\, USA. He will also be making his debut performance at the Ca
 rnegie Hall later this year and will also be performing and participating 
 at the Great Mountains Music Festival in South Korea.<br />\nAdmission is 
 $15 Adults\, $10 Students.<br />\nTickets can be purchased at Wang Asian M
 arket on 7 Christopher Street\, or at the Tauranga Art Gallery on 108 Will
 ow Street\, Tauranga. Door sales are also available.<br />\nThis is a fund
 raising event for Dominic’s studies and performances in the USA and South 
 Korea.<br />\nDon’t miss out\, there are LIMITED SEATING!<br />\nBook tick
 ets here: 07 578 7933</p>\n<p>LOCATION: Hit the “Read More” button to the 
 right of this sentence.</p>
DTSTART;TZID=Pacific/Auckland:20150530T163000
DTEND;TZID=Pacific/Auckland:20150530T183000
LOCATION:Tauranga Art Gallery\, 108 Willow St\, Tauranga\, Tauranga 3141\, 
 New Zealand
SEQUENCE:0
SUMMARY:Guest performance at GRAZIA Concert featuring Dominic Lee
URL:http://www.reubensimpson.co.nz/event/guest-performance-at-grazia-concer
 t-featuring-dominic-lee/
END:VEVENT
BEGIN:VEVENT
UID:gmht7m0phfj1d11ccuo67rpl6c@google.com
DTSTAMP:20180123T100156Z
CATEGORIES:
CONTACT:
DESCRIPTION:<p>Singing in the lounge with Leith Milson\, piano maestro.</p>
 \n<p>Postponed to next Friday.</p>\n<p>LOCATION: Hit the “Read More” butto
 n to the right of this sentence.</p>
DTSTART;TZID=Pacific/Auckland:20150605T190000
DTEND;TZID=Pacific/Auckland:20150605T200000
LOCATION:Trinity Wharf Tauranga\, 51 Dive Crescent\, Tauranga Bay Of Plenty
  3110\, New Zealand
SEQUENCE:0
SUMMARY:POSTPONED: Trinity Wharf Hotel accompanied by pianist Leith Milson 
 – Tauranga
URL:http://www.reubensimpson.co.nz/event/trinity-wharf-hotel-accompanied-by
 -pianist-leith-milson-tauranga-3/
END:VEVENT
BEGIN:VEVENT
UID:u35usn5ik8at61p3f32jaautk8@google.com
DTSTAMP:20180123T100156Z
CATEGORIES:
CONTACT:
DESCRIPTION:<p>LOCATION: Hit the “Read More” button to the right of this se
 ntence.</p>
DTSTART;TZID=Pacific/Auckland:20150607T160000
DTEND;TZID=Pacific/Auckland:20150607T190000
LOCATION:65 Chapel St\, Tauranga\, Tauranga 3110\, New Zealand
SEQUENCE:0
SUMMARY:The Raft Restaurant – Tauranga
URL:http://www.reubensimpson.co.nz/event/the-raft-restaurant-tauranga-time-
 tbc/
END:VEVENT
BEGIN:VEVENT
UID:i5gm0ar0fv8u0u8fhordr2eo9s@google.com
DTSTAMP:20180123T100156Z
CATEGORIES:
CONTACT:
DESCRIPTION:<p>Singing in the lounge with Leith Milson\, piano maestro.</p>
 \n<p>LOCATION: Hit the “Read More” button to the right of this sentence.</
 p>
DTSTART;TZID=Pacific/Auckland:20150612T190000
DTEND;TZID=Pacific/Auckland:20150612T200000
LOCATION:Trinity Wharf Tauranga\, 51 Dive Crescent\, Tauranga Bay Of Plenty
  3110\, New Zealand
SEQUENCE:0
SUMMARY:Trinity Wharf Hotel accompanied by pianist Leith Milson – Tauranga
URL:http://www.reubensimpson.co.nz/event/trinity-wharf-hotel-accompanied-by
 -pianist-leith-milson-tauranga-4/
END:VEVENT
BEGIN:VEVENT
UID:kk2pn6g3lqnujo8j1mbe0gsl3o@google.com
DTSTAMP:20180123T100156Z
CATEGORIES:
CONTACT:
DESCRIPTION:<p>Book your seat at 07-578 4556\, $10.00.</p>\n<p>https://www.
 facebook.com/QuantumVisTauranga</p>\n<p>LOCATION: Hit the “Read More” butt
 on to the right of this sentence.</p>
DTSTART;TZID=Pacific/Auckland:20150626T173000
DTEND;TZID=Pacific/Auckland:20150626T193000
LOCATION:850 Cameron Rd\, Tauranga South\, Tauranga 3112\, New Zealand
SEQUENCE:0
SUMMARY:Quantum Vis Eatery Restaurant
URL:http://www.reubensimpson.co.nz/event/quantum-vis-eatery-restaurant/
END:VEVENT
BEGIN:VEVENT
UID:ek1odpf4tkootfncfkechjimbg@google.com
DTSTAMP:20180123T100156Z
CATEGORIES:
CONTACT:
DESCRIPTION:<p>Presented by: Corporate Casino and Total Entertainment Solut
 ionz</p>\n<p>Come and experience the best of Vegas without having to gambl
 e away those hard earned dollars! Corporate Casino and Total Entertainment
  Solutionz have joined forces to create a Las Vegas experience not to be m
 issed!</p>\n<p>We have all the elements of a great night out including a f
 un casino\, 3 course American style dinner\, themed characters\, showgirls
 \, singers\, portrait artist\, and more.</p>\n<p>Read more at http://premi
 er.ticketek.co.nz/shows/show.aspx?sh=VIVALASV15#s4wd75PAb7EdVpR6.99</p>\n<
 p>LOCATION: Hit the “Read More” button to the right of this sentence.</p>
DTSTART;TZID=Pacific/Auckland:20150704T183000
DTEND;TZID=Pacific/Auckland:20150704T223000
LOCATION:Tauranga Racecourse\, 1381 Cameron Road\, Greerton
SEQUENCE:0
SUMMARY:Viva Las Vegas Show – Tauranga
URL:http://www.reubensimpson.co.nz/event/viva-las-vegas-night-tauranga-2/
END:VEVENT
BEGIN:VEVENT
UID:mepaiiu3gnsej0uij8e8mbmf9c@google.com
DTSTAMP:20180123T100156Z
CATEGORIES:
CONTACT:
DESCRIPTION:<p>Presented by: Corporate Casino and Total Entertainment Solut
 ionz</p>\n<p>Come and experience the best of Vegas without having to gambl
 e away those hard earned dollars! Corporate Casino and Total Entertainment
  Solutionz have joined forces to create a Las Vegas experience not to be m
 issed!</p>\n<p>We have all the elements of a great night out including a f
 un casino\, 3 course American style dinner\, themed characters\, showgirls
 \, singers\, portrait artist\, and more.</p>\n<p>Read more at http://premi
 er.ticketek.co.nz/shows/show.aspx?sh=VIVALASV15#s4wd75PAb7EdVpR6.99</p>\n<
 p>LOCATION: Hit the “Read More” button to the right of this sentence.</p>
DTSTART;TZID=Pacific/Auckland:20150731T183000
DTEND;TZID=Pacific/Auckland:20150731T223000
LOCATION:Baycourt Community & Art Centre\, 38 Durham Street\, Tauranga 3110
 \, New Zealand
SEQUENCE:0
SUMMARY:CANCELLED: Viva Las Vegas Show – Tauranga
URL:http://www.reubensimpson.co.nz/event/viva-las-vegas-night-tauranga/
END:VEVENT
BEGIN:VEVENT
UID:th3df6rksaeg97tvlj9rti0q6c@google.com
DTSTAMP:20180123T100156Z
CATEGORIES:
CONTACT:
DESCRIPTION:<p>Book your seat at 07-578 4556\, $10.00 to reserve your seat.
 </p>\n<p>https://www.facebook.com/QuantumVisTauranga</p>\n<p>LOCATION: Hit
  the “Read More” button to the right of this sentence.</p>
DTSTART;TZID=Pacific/Auckland:20150807T183000
DTEND;TZID=Pacific/Auckland:20150807T203000
LOCATION:850 Cameron Rd\, Tauranga South\, Tauranga 3112\, New Zealand
SEQUENCE:0
SUMMARY:Quantum Vis Eatery Restaurant – Tauranga
URL:http://www.reubensimpson.co.nz/event/quantum-vis-eatery-restaurant-taur
 anga/
END:VEVENT
BEGIN:VEVENT
UID:c0b09hst42lhmmhh6jqm5ii97o@google.com
DTSTAMP:20180123T100156Z
CATEGORIES:
CONTACT:
DESCRIPTION:<p>LOCATION: Hit the “Read More” button to the right of this se
 ntence.</p>
DTSTART;TZID=Pacific/Auckland:20150823T163000
DTEND;TZID=Pacific/Auckland:20150823T193000
LOCATION:Mount Maunganui RSA\, 544 Maunganui Road\, Omanu 3116\, New Zealan
 d
SEQUENCE:0
SUMMARY:Mount Maunganui RSA – Tauranga
URL:http://www.reubensimpson.co.nz/event/mt-rsa-tauranga/
END:VEVENT
BEGIN:VEVENT
UID:hl0pg5rlrpr3cmkn5ut4oh16mk@google.com
DTSTAMP:20180123T100156Z
CATEGORIES:
CONTACT:
DESCRIPTION:<p>LOCATION: Hit the “Read More” button to the right of this se
 ntence.</p>
DTSTART;TZID=Pacific/Auckland:20150912T190000
DTEND;TZID=Pacific/Auckland:20150912T210000
LOCATION:Wharf St\, Tauranga\, Tauranga 3110\, New Zealand
SEQUENCE:0
SUMMARY:Wharf Street Opening (3 piece combo) – Tauranga
URL:http://www.reubensimpson.co.nz/event/singing-at-wharf-street-opening-3-
 piece-combo/
END:VEVENT
BEGIN:VEVENT
UID:agel2k32tp4n32le1d3nl6ie5o@google.com
DTSTAMP:20180123T100156Z
CATEGORIES:
CONTACT:
DESCRIPTION:<p>LOCATION: Hit the “Read More” button to the right of this se
 ntence.</p>
DTSTART;TZID=Pacific/Auckland:20150918T193000
DTEND;TZID=Pacific/Auckland:20150918T230000
LOCATION:Mount Maunganui RSA\, 544 Maunganui Road\, Omanu 3116\, New Zealan
 d
SEQUENCE:0
SUMMARY:Mount Maunganui RSA – Tauranga
URL:http://www.reubensimpson.co.nz/event/mt-rsa-tauranga-2/
END:VEVENT
BEGIN:VEVENT
UID:9oiqa7vpku14im7rots91h1meg@google.com
DTSTAMP:20180123T100156Z
CATEGORIES:
CONTACT:
DESCRIPTION:<p>Upstairs in the restaurant.</p>\n<p>LOCATION: Hit the “Read 
 More” button to the right of this sentence.</p>
DTSTART;TZID=Pacific/Auckland:20150924T190000
DTEND;TZID=Pacific/Auckland:20150924T220000
LOCATION:Tauranga Citizens Club\, 170 Thirteenth Avenue\, Tauranga South\, 
 Tauranga 3112\, New Zealand
SEQUENCE:0
SUMMARY:Tauranga Citz Club
URL:http://www.reubensimpson.co.nz/event/tauranga-citz-club/
END:VEVENT
BEGIN:VEVENT
UID:vho4gnvfs7610l1tflmk1sc2k4@google.com
DTSTAMP:20180123T100156Z
CATEGORIES:
CONTACT:
DESCRIPTION:<p>LOCATION: Hit the “Read More” button to the right of this se
 ntence.</p>
DTSTART;TZID=Pacific/Auckland:20151002T183000
DTEND;TZID=Pacific/Auckland:20151002T203000
LOCATION:Trinity Wharf Tauranga\, 51 Dive Crescent\, Tauranga Bay Of Plenty
  3110\, New Zealand
SEQUENCE:0
SUMMARY:Trinity Wharf Hotel – Tauranga
URL:http://www.reubensimpson.co.nz/event/trinity-wharf-hotel-tauranga/
END:VEVENT
BEGIN:VEVENT
UID:mkn326uibbj6clu8vjn4eklieo@google.com
DTSTAMP:20180123T100156Z
CATEGORIES:
CONTACT:
DESCRIPTION:<p>LOCATION: Hit the “Read More” button to the right of this se
 ntence.</p>
DTSTART;TZID=Pacific/Auckland:20151103T183000
DTEND;TZID=Pacific/Auckland:20151103T203000
LOCATION:Club Mount Maunganui\, 45 Kawaka Street\, Mount Maunganui\, Tauran
 ga 3116\, New Zealand
SEQUENCE:0
SUMMARY:Club Mt Maunganui – Tauranga
URL:http://www.reubensimpson.co.nz/event/club-mt-maunganui-tauranga/
END:VEVENT
BEGIN:VEVENT
UID:mdb0urc7agv2d8asmt8sggkcvk@google.com
DTSTAMP:20180123T100156Z
CATEGORIES:
CONTACT:
DESCRIPTION:<p>LOCATION: Hit the “Read More” button to the right of this se
 ntence.</p>
DTSTART;TZID=Pacific/Auckland:20160214T120000
DTEND;TZID=Pacific/Auckland:20160214T140000
LOCATION:Club Mount Maunganui\, 45 Kawaka Street\, Mount Maunganui\, Tauran
 ga 3116\, New Zealand
SEQUENCE:0
SUMMARY:Club Mount Maunganui – Tauranga (Valentine’s Day LUNCH)
URL:http://www.reubensimpson.co.nz/event/club-mount-maunganui-tauranga-vale
 ntines-day-lunch-3/
END:VEVENT
BEGIN:VEVENT
UID:po7uci6colkgr2r1b0b05sm948@google.com
DTSTAMP:20180123T100156Z
CATEGORIES:
CONTACT:
DESCRIPTION:<p>LOCATION: Hit the “Read More” button to the right of this se
 ntence.</p>
DTSTART;TZID=Pacific/Auckland:20160214T173000
DTEND;TZID=Pacific/Auckland:20160214T193000
LOCATION:Club Mount Maunganui\, 45 Kawaka Street\, Mount Maunganui\, Tauran
 ga 3116\, New Zealand
SEQUENCE:0
SUMMARY:Club Mount Maunganui – Tauranga (Valentine’s Day DINNER)
URL:http://www.reubensimpson.co.nz/event/club-mount-maunganui-tauranga-vale
 ntines-day-dinner-3/
END:VEVENT
BEGIN:VEVENT
UID:etbgip1rd9iugc3oc2k1oiid28@google.com
DTSTAMP:20180123T100156Z
CATEGORIES:
CONTACT:
DESCRIPTION:<p>LOCATION: Hit the “Read More” button to the right of this se
 ntence.</p>
DTSTART;TZID=Pacific/Auckland:20160227T193000
DTEND;TZID=Pacific/Auckland:20160227T230000
LOCATION:Mount Maunganui RSA\, 544 Maunganui Road\, Omanu 3116\, New Zealan
 d
SEQUENCE:0
SUMMARY:Mount Maunganui RSA – Tauranga
URL:http://www.reubensimpson.co.nz/event/mount-maunganui-rsa-tauranga-3/
END:VEVENT
BEGIN:VEVENT
UID:kap4nlt97bn9kan01bbqo5vgss@google.com
DTSTAMP:20180123T100156Z
CATEGORIES:
CONTACT:
DESCRIPTION:<p>Singing outside the Trade Aid shop.<br />\nLOCATION: Hit the
  “Read More” button to the right of this sentence.</p>
DTSTART;TZID=Pacific/Auckland:20160326T113000
DTEND;TZID=Pacific/Auckland:20160326T133000
LOCATION:Trade Aid Tauranga\, 3/192 Maunganui Rd\, Mount Maunganui\, Tauran
 ga 3116\, New Zealand
SEQUENCE:0
SUMMARY:National Jazz Festival 2016 – Tauranga
URL:http://www.reubensimpson.co.nz/event/national-jazz-festival-2016-2/
END:VEVENT
BEGIN:VEVENT
UID:frp19hlvo297nb2uddvlf80flg@google.com
DTSTAMP:20180123T100156Z
CATEGORIES:
CONTACT:
DESCRIPTION:<p>Singing outside the Trade Aid shop.<br />\nLOCATION: Hit the
  “Read More” button to the right of this sentence.</p>
DTSTART;TZID=Pacific/Auckland:20160327T123000
DTEND;TZID=Pacific/Auckland:20160327T143000
LOCATION:Trade Aid Tauranga\, 3/192 Maunganui Rd\, Mount Maunganui\, Tauran
 ga 3116\, New Zealand
SEQUENCE:0
SUMMARY:National Jazz Festival 2016 – Tauranga
URL:http://www.reubensimpson.co.nz/event/national-jazz-festival-2016/
END:VEVENT
BEGIN:VEVENT
UID:eh2sa2crv3rloucpa08lc1qadg@google.com
DTSTAMP:20180123T100156Z
CATEGORIES:
CONTACT:
DESCRIPTION:<p>Singing in the lounge with Leith Milson\, piano maestro.</p>
 \n<p>LOCATION: Hit the “Read More” button to the right of this sentence.</
 p>
DTSTART;TZID=Pacific/Auckland:20160506T190000
DTEND;TZID=Pacific/Auckland:20160506T200000
LOCATION:Trinity Wharf Tauranga\, 51 Dive Crescent\, Tauranga Bay Of Plenty
  3110\, New Zealand
SEQUENCE:0
SUMMARY:Trinity Wharf Hotel accompanied by pianist Leith Milson – Tauranga
URL:http://www.reubensimpson.co.nz/event/trinity-wharf-hotel-accompanied-by
 -pianist-leith-milson-tauranga-5/
END:VEVENT
BEGIN:VEVENT
UID:shi5lc61h7t9csnnt1qfbt5qho@google.com
DTSTAMP:20180123T100156Z
CATEGORIES:
CONTACT:
DESCRIPTION:<p>Reuben is the supporting act for jazz singer Ruby Lyon.</p>
 \n<p>Door sales only from 4:30pm. $10pp.</p>\n<p>Full bar and restaurant m
 eals available.<br />\nEnquires: Nicole Stagg 027 228 3455</p>\n<p>LOCATIO
 N: Hit the “Read More” button to the right of this sentence.</p>
DTSTART;TZID=Pacific/Auckland:20160508T170000
DTEND;TZID=Pacific/Auckland:20160508T200000
LOCATION:Tauranga Citizens Club\, 170 Thirteenth Ave\, Tauranga South\, Tau
 ranga 3112\, New Zealand
SEQUENCE:0
SUMMARY:The Entertainers Club accompanied by pianist Leith Milson – Taurang
 a
URL:http://www.reubensimpson.co.nz/event/the-entertainers-club-accompanied-
 by-pianist-leith-milson-tauranga/
END:VEVENT
BEGIN:VEVENT
UID:ota2sn0hu04cosvhi5ol8itg3s@google.com
DTSTAMP:20180123T100156Z
CATEGORIES:
CONTACT:
DESCRIPTION:<p>The Auckland Jazz and Blues Club presents:<br />\nThe Rat Pa
 ck featuring Bevan Williams\, John McGill\, and Reuben Simpson.<br />\nAdv
 ert here: http://oi68.tinypic.com/2yx53dj.jpg</p>\n<p>Door charge: members
  $5.00\, non-members $15.00.</p>\n<p>LOCATION: Hit the “Read More” button 
 to the right of this sentence.</p>
DTSTART;TZID=Pacific/Auckland:20160524T193000
DTEND;TZID=Pacific/Auckland:20160524T220000
LOCATION:Pt Chevalier RSA Bowling Club\, 1136 Great North Rd\, Point Cheval
 ier\, Auckland 1022\, New Zealand
SEQUENCE:0
SUMMARY:The Brat Pack Night with the Prohibition Big Band – Auckland
URL:http://www.reubensimpson.co.nz/event/the-rat-pack-night-with-the-prohib
 ition-big-band-auckland/
END:VEVENT
BEGIN:VEVENT
UID:1q3sc6gvaqteks3qmck8gvg36g@google.com
DTSTAMP:20180123T100156Z
CATEGORIES:
CONTACT:
DESCRIPTION:<p>Variety fundraising show for my friend Liam Hagan.</p>\n<p>V
 iew the official event page on Facebook here: https://www.facebook.com/eve
 nts/144989735906493/</p>\n<p>LOCATION: Hit the “Read More” button to the r
 ight of this sentence.</p>
DTSTART;TZID=Pacific/Auckland:20160604T193000
DTEND;TZID=Pacific/Auckland:20160604T220000
LOCATION:Tauranga Musical Theatre\, Seventeenth Ave\, Bay Of Plenty 3112\, 
 New Zealand
SEQUENCE:0
SUMMARY:‘Funding Dandy’ Fundraising Concert for Liam Hagan – Tauranga
URL:http://www.reubensimpson.co.nz/event/fundraising-concert-for-liam-hagan
 -tauranga/
END:VEVENT
BEGIN:VEVENT
UID:tf5opdvk4g2feiaaf3fg1r86jo@google.com
DTSTAMP:20180123T100156Z
CATEGORIES:
CONTACT:
DESCRIPTION:<p>Fly me to the moon\, let me play among the stars…</p>\n<p>To
 night you will be transported to another galaxy\, where the stars are spar
 kling and the moon shines bright.  The Queenstown Jazz Orchestra will set 
 the scene\, Jordan Vandermade will weave some magic into the night\, ‘Ol B
 lue Eyes’ will play his part\, The Crooners will have you swinging and loc
 al band The Hamiltones will keep you on your feet all night. </p>\n<p>Dres
 s code is formal – be sure to sparkle!</p>\n<p>Tickets include a bubbles o
 n arrival\, a delicious three course meal and four bottles of wine (per ta
 ble) from Central Otago’s Gibbston Valley Wines.</p>\n<p>MORE INFO:<br />
 \nhttp://www.winterfestival.co.nz/programme/saturday-july-2nd-2016/skycity
 -ball-fly-me-to-the-moon/</p>\n<p>LOCATION: Hit the “Read More” button to 
 the right of this sentence.</p>
DTSTART;TZID=Pacific/Auckland:20160702T190000
DTEND;TZID=Pacific/Auckland:20160703T000000
LOCATION:Queenstown Memorial Hall\, 1 Memorial St\, Queenstown 9300\, New Z
 ealand
SEQUENCE:0
SUMMARY:Queenstown Winter Festival – Queenstown
URL:http://www.reubensimpson.co.nz/event/queenstown-winter-festival/
END:VEVENT
BEGIN:VEVENT
UID:evg2tjtk4vmt2afi4cicodru0s@google.com
DTSTAMP:20180123T100156Z
CATEGORIES:
CONTACT:
DESCRIPTION:<p>This has been postponed as the RSA has accidentally made a d
 ouble booking.</p>\n<p>LOCATION: Hit the “Read More” button to the right o
 f this sentence.</p>
DTSTART;TZID=Pacific/Auckland:20160723T190000
DTEND;TZID=Pacific/Auckland:20160723T223000
LOCATION:Mount Maunganui RSA\, 544 Maunganui Rd\, Mount Maunganui\, Omanu 3
 116\, New Zealand
SEQUENCE:0
SUMMARY:CANCELLED: Mount Maunganui RSA – Tauranga
URL:http://www.reubensimpson.co.nz/event/mount-maunganui-rsa-tauranga-5/
END:VEVENT
BEGIN:VEVENT
UID:nk37dhn9rt4ujveune3ai3iatg@google.com
DTSTAMP:20180123T100156Z
CATEGORIES:
CONTACT:
DESCRIPTION:<p>LOCATION: Hit the “Read More” button to the right of this se
 ntence.</p>
DTSTART;TZID=Pacific/Auckland:20161001T190000
DTEND;TZID=Pacific/Auckland:20161001T223000
LOCATION:Mount Maunganui RSA\, 544 Maunganui Rd\, Mount Maunganui\, Omanu 3
 116\, New Zealand
SEQUENCE:0
SUMMARY:Mount Maunganui RSA – Tauranga
URL:http://www.reubensimpson.co.nz/event/mount-maunganui-rsa-tauranga-6/
END:VEVENT
BEGIN:VEVENT
UID:ds8v9h7uc8q4pouh5d263u63d4@google.com
DTSTAMP:20180123T100156Z
CATEGORIES:
CONTACT:
DESCRIPTION:<p>LOCATION: Hit the “Read More” button to the right of this se
 ntence.</p>
DTSTART;TZID=Pacific/Auckland:20170128T190000
DTEND;TZID=Pacific/Auckland:20170128T223000
LOCATION:Mount Maunganui RSA\, 544 Maunganui Rd\, Mount Maunganui\, Omanu 3
 116\, New Zealand
SEQUENCE:0
SUMMARY:Mount Maunganui RSA – Tauranga
URL:http://www.reubensimpson.co.nz/event/mount-maunganui-rsa-tauranga-7/
END:VEVENT
BEGIN:VEVENT
UID:2696oh6p108oc82phd6kbehqlo@google.com
DTSTAMP:20180123T100156Z
CATEGORIES:
CONTACT:
DESCRIPTION:<p>LOCATION: Hit the “Read More” button to the right of this se
 ntence.</p>
DTSTART;TZID=Pacific/Auckland:20170722T150000
DTEND;TZID=Pacific/Auckland:20170722T170000
LOCATION:Dida's Wine Lounge & Tapas\, 54 Jervois Rd\, Ponsonby\, Auckland 1
 011\, New Zealand
SEQUENCE:0
SUMMARY:Dida’s Wine Lounge & Tapas – Auckland
URL:http://www.reubensimpson.co.nz/event/didas-wine-lounge-tapas-auckland/
END:VEVENT
BEGIN:VEVENT
UID:4se8o6tug48ng6bjfdugkf5oof@google.com
DTSTAMP:20180123T100156Z
CATEGORIES:
CONTACT:
DESCRIPTION:<p>LOCATION: Hit the “Read More” button to the right of this se
 ntence.</p>
DTSTART;TZID=Pacific/Auckland:20170805T160000
DTEND;TZID=Pacific/Auckland:20170805T180000
LOCATION:Dida's Wine Lounge & Tapas\, 54 Jervois Rd\, Ponsonby\, Auckland 1
 011\, New Zealand
SEQUENCE:0
SUMMARY:Dida’s Wine Lounge & Tapas – Auckland
URL:http://www.reubensimpson.co.nz/event/didas-wine-lounge-tapas-auckland-2
 /
END:VEVENT
END:VCALENDAR
